BEGIN:VCALENDAR
VERSION:2.0
PRODID:-//칠성항해 - ECPv6.13.2//NONSGML v1.0//EN
CALSCALE:GREGORIAN
METHOD:PUBLISH
X-ORIGINAL-URL:https://sevenstarsail.com
X-WR-CALDESC:칠성항해 이벤트
REFRESH-INTERVAL;VALUE=DURATION:PT1H
X-Robots-Tag:noindex
X-PUBLISHED-TTL:PT1H
BEGIN:VTIMEZONE
TZID:Asia/Tokyo
BEGIN:STANDARD
TZOFFSETFROM:+0900
TZOFFSETTO:+0900
TZNAME:JST
DTSTART:20250101T000000
END:STANDARD
END:VTIMEZONE
BEGIN:VEVENT
DTSTART;TZID=Asia/Tokyo:20250921T100000
DTEND;TZID=Asia/Tokyo:20250921T130000
DTSTAMP:20260425T205329
CREATED:20250905T063816Z
LAST-MODIFIED:20250905T065556Z
UID:957-1758448800-1758459600@sevenstarsail.com
SUMMARY:정기세일링&요트조종면허 실기교육 - 2회차
DESCRIPTION:
URL:https://sevenstarsail.com/event/%ec%9a%94%ed%8a%b8%ec%a1%b0%ec%a2%85%eb%a9%b4%ed%97%88-%ec%8b%a4%ea%b8%b0%ea%b5%90%ec%9c%a1-2%ed%9a%8c%ec%b0%a8/
END:VEVENT
BEGIN:VEVENT
DTSTART;TZID=Asia/Tokyo:20250928T100000
DTEND;TZID=Asia/Tokyo:20250928T130000
DTSTAMP:20260425T205329
CREATED:20250905T063941Z
LAST-MODIFIED:20250905T063941Z
UID:959-1759053600-1759064400@sevenstarsail.com
SUMMARY:요트조종면허 실기교육 - 3회차
DESCRIPTION:
URL:https://sevenstarsail.com/event/%ec%9a%94%ed%8a%b8%ec%a1%b0%ec%a2%85%eb%a9%b4%ed%97%88-%ec%8b%a4%ea%b8%b0%ea%b5%90%ec%9c%a1-3%ed%9a%8c%ec%b0%a8/
END:VEVENT
END:VCALENDAR