BEGIN:VCALENDAR
VERSION:2.0
PRODID:-//칠성항해 - ECPv6.13.2//NONSGML v1.0//EN
CALSCALE:GREGORIAN
METHOD:PUBLISH
X-ORIGINAL-URL:https://sevenstarsail.com
X-WR-CALDESC:칠성항해 이벤트
REFRESH-INTERVAL;VALUE=DURATION:PT1H
X-Robots-Tag:noindex
X-PUBLISHED-TTL:PT1H
BEGIN:VTIMEZONE
TZID:Asia/Tokyo
BEGIN:STANDARD
TZOFFSETFROM:+0900
TZOFFSETTO:+0900
TZNAME:JST
DTSTART:20250101T000000
END:STANDARD
END:VTIMEZONE
BEGIN:VEVENT
DTSTART;TZID=Asia/Tokyo:20250927T100000
DTEND;TZID=Asia/Tokyo:20250927T130000
DTSTAMP:20260426T010539
CREATED:20250905T064809Z
LAST-MODIFIED:20250905T064809Z
UID:971-1758967200-1758978000@sevenstarsail.com
SUMMARY:정기 세일링
DESCRIPTION:
URL:https://sevenstarsail.com/event/%ec%a0%95%ea%b8%b0-%ec%84%b8%ec%9d%bc%eb%a7%81-3/
END:VEVENT
END:VCALENDAR