BEGIN:VCALENDAR
VERSION:2.0
PRODID:-//칠성항해 - ECPv6.13.2//NONSGML v1.0//EN
CALSCALE:GREGORIAN
METHOD:PUBLISH
X-WR-CALNAME:칠성항해
X-ORIGINAL-URL:https://sevenstarsail.com
X-WR-CALDESC:칠성항해 이벤트
REFRESH-INTERVAL;VALUE=DURATION:PT1H
X-Robots-Tag:noindex
X-PUBLISHED-TTL:PT1H
BEGIN:VTIMEZONE
TZID:Asia/Tokyo
BEGIN:STANDARD
TZOFFSETFROM:+0900
TZOFFSETTO:+0900
TZNAME:JST
DTSTART:20250101T000000
END:STANDARD
END:VTIMEZONE
BEGIN:VEVENT
DTSTART;TZID=Asia/Tokyo:20251004T100000
DTEND;TZID=Asia/Tokyo:20251004T130000
DTSTAMP:20260424T015224
CREATED:20250905T064911Z
LAST-MODIFIED:20250905T064911Z
UID:973-1759572000-1759582800@sevenstarsail.com
SUMMARY:정기 세일링
DESCRIPTION:
URL:https://sevenstarsail.com/event/%ec%a0%95%ea%b8%b0-%ec%84%b8%ec%9d%bc%eb%a7%81-4/
END:VEVENT
BEGIN:VEVENT
DTSTART;TZID=Asia/Tokyo:20251011T100000
DTEND;TZID=Asia/Tokyo:20251011T130000
DTSTAMP:20260424T015224
CREATED:20250905T065003Z
LAST-MODIFIED:20250905T065003Z
UID:975-1760176800-1760187600@sevenstarsail.com
SUMMARY:정기 세일링
DESCRIPTION:
URL:https://sevenstarsail.com/event/%ec%a0%95%ea%b8%b0-%ec%84%b8%ec%9d%bc%eb%a7%81-5/
END:VEVENT
BEGIN:VEVENT
DTSTART;TZID=Asia/Tokyo:20251012T100000
DTEND;TZID=Asia/Tokyo:20251012T130000
DTSTAMP:20260424T015224
CREATED:20250905T064211Z
LAST-MODIFIED:20250905T064211Z
UID:963-1760263200-1760274000@sevenstarsail.com
SUMMARY:요트조종면허 실기교육 - 5회차
DESCRIPTION:
URL:https://sevenstarsail.com/event/%ec%9a%94%ed%8a%b8%ec%a1%b0%ec%a2%85%eb%a9%b4%ed%97%88-%ec%8b%a4%ea%b8%b0%ea%b5%90%ec%9c%a1-5%ed%9a%8c%ec%b0%a8/
END:VEVENT
BEGIN:VEVENT
DTSTART;TZID=Asia/Tokyo:20251026T100000
DTEND;TZID=Asia/Tokyo:20251026T130000
DTSTAMP:20260424T015224
CREATED:20250905T064258Z
LAST-MODIFIED:20250905T064258Z
UID:965-1761472800-1761483600@sevenstarsail.com
SUMMARY:요트조종면허 실기교육 - 6회차
DESCRIPTION:
URL:https://sevenstarsail.com/event/%ec%9a%94%ed%8a%b8%ec%a1%b0%ec%a2%85%eb%a9%b4%ed%97%88-%ec%8b%a4%ea%b8%b0%ea%b5%90%ec%9c%a1-6%ed%9a%8c%ec%b0%a8/
END:VEVENT
END:VCALENDAR